BEGIN:VCALENDAR
VERSION:2.0
PRODID:-//wp-events-plugin.com//7.2.3.1//EN
TZID:Europe/Vienna
X-WR-TIMEZONE:Europe/Vienna
BEGIN:VEVENT
UID:186@bfk-waidhofen.at
DTSTART;TZID=Europe/Vienna:20260214T140000
DTEND;TZID=Europe/Vienna:20260214T235900
DTSTAMP:20260208T181609Z
URL:https://www.bfk-waidhofen.at/events/zankerl-und-blunzenschnapsen-der-f
 f-kainraths/
SUMMARY:Zankerl- und Blunzenschnapsen der FF Kainraths
DESCRIPTION:mit Valentinstagsspecial\nKinderdisco ab 14:00 Uhr\nBarbetrieb\
 nKarten sind begrenzt vor Ort erhältlich
LOCATION:Feuerwehrhaus Kainraths\, Kainraths 22\, Kainraths\, 3830\, Öster
 reich
X-APPLE-STRUCTURED-LOCATION;VALUE=URI;X-ADDRESS=Kainraths 22\, Kainraths\, 
 3830\, Österreich;X-APPLE-RADIUS=100;X-TITLE=Feuerwehrhaus Kainraths:geo:
 0,0
END:VEVENT
BEGIN:VTIMEZONE
TZID:Europe/Vienna
X-LIC-LOCATION:Europe/Vienna
BEGIN:STANDARD
DTSTART:20251026T020000
TZOFFSETFROM:+0200
TZOFFSETTO:+0100
TZNAME:CET
END:STANDARD
END:VTIMEZONE
END:VCALENDAR