BEGIN:VCALENDAR
VERSION:2.0
PRODID:-//wp-events-plugin.com//7.2.3.1//EN
TZID:Europe/Vienna
X-WR-TIMEZONE:Europe/Vienna
BEGIN:VEVENT
UID:145@bfk-waidhofen.at
DTSTART;TZID=Europe/Vienna:20250719T100000
DTEND;TZID=Europe/Vienna:20250719T190000
DTSTAMP:20250626T113602Z
URL:https://www.bfk-waidhofen.at/events/wq-splash-der-ff-ulrichschlag/
SUMMARY:WQ Splash der FF Ulrichschlag
DESCRIPTION:bei Schlechtwetter Ersatztermin am 26.07.2025\nNeue Streckenfü
 hrung für noch mehr Rutschvergnügen!\nHüpfburgen\, Kinderbetreuung durc
 h Jungschar\, Softeis\nEinzelfahrt 5\,--\nTageskarte 25\,-- (unter 14 Jahr
 e 20\,--)
LOCATION:Schihütte Ulrichschlag\, Ulrichschlag\, 3830 Waidhofen an der Tha
 ya\, 3830\, Österreich
X-APPLE-STRUCTURED-LOCATION;VALUE=URI;X-ADDRESS=Ulrichschlag\, 3830 Waidhof
 en an der Thaya\, 3830\, Österreich;X-APPLE-RADIUS=100;X-TITLE=Schihütte
  Ulrichschlag:geo:0,0
END:VEVENT
BEGIN:VTIMEZONE
TZID:Europe/Vienna
X-LIC-LOCATION:Europe/Vienna
BEGIN:DAYLIGHT
DTSTART:20250330T030000
TZOFFSETFROM:+0100
TZOFFSETTO:+0200
TZNAME:CEST
END:DAYLIGHT
END:VTIMEZONE
END:VCALENDAR