BEGIN:VCALENDAR
VERSION:2.0
PRODID:-//wp-events-plugin.com//7.2.3.1//EN
TZID:Europe/Vienna
X-WR-TIMEZONE:Europe/Vienna
BEGIN:VEVENT
UID:152@bfk-waidhofen.at
DTSTART;TZID=Europe/Vienna:20250907T103000
DTEND;TZID=Europe/Vienna:20250907T220000
DTSTAMP:20250811T142131Z
URL:https://www.bfk-waidhofen.at/events/mittagstisch-der-ff-sieghartsles/
SUMMARY:Mittagstisch der FF Sieghartsles
DESCRIPTION:Puten- oder Schweins-Schnitzel\nKotelett oder Bratwürstel\ngeb
 ackener Kürbis als vegetarische Alternative\n\nviele tolle hausgemachte M
 ehlspeisen sowie Softeis\n\nLivemusik mit den W4s\n\nHüpfburg inkl. Kinde
 rprogramm mit tollen spaßigen Herausforderungen - Spiel und Spaß stehen 
 bei uns an erster Stelle\n\nWir freuen uns auf Euer Kommen
LOCATION:Feuerwehrhaus Sieghartsles\, Sieghartsles 26\, Sieghartsles\, 3812
 \, Österreich
X-APPLE-STRUCTURED-LOCATION;VALUE=URI;X-ADDRESS=Sieghartsles 26\, Siegharts
 les\, 3812\, Österreich;X-APPLE-RADIUS=100;X-TITLE=Feuerwehrhaus Sieghart
 sles:geo:0,0
END:VEVENT
BEGIN:VTIMEZONE
TZID:Europe/Vienna
X-LIC-LOCATION:Europe/Vienna
BEGIN:DAYLIGHT
DTSTART:20250330T030000
TZOFFSETFROM:+0100
TZOFFSETTO:+0200
TZNAME:CEST
END:DAYLIGHT
END:VTIMEZONE
END:VCALENDAR