BEGIN:VCALENDAR
VERSION:2.0
PRODID:-//wp-events-plugin.com//7.2.3.1//EN
TZID:Europe/Vienna
X-WR-TIMEZONE:Europe/Vienna
BEGIN:VEVENT
UID:129@bfk-waidhofen.at
DTSTART;TZID=Europe/Vienna:20250518T093000
DTEND;TZID=Europe/Vienna:20250518T130000
DTSTAMP:20250422T141142Z
URL:https://www.bfk-waidhofen.at/events/florianifeier-und-fruehschoppen-de
 r-ff-raabs/
SUMMARY:Florianifeier und Frühschoppen der FF Raabs
DESCRIPTION:09.30 Uhr Florianifeier mit Segnung der neuen Einsatzbekleidung
  anschließend Frühschoppen mit Mittagstisch
LOCATION:Feuerwehrhaus Raabs\, Franz Part Straße 2\, Raabs an der Thaya\, 
 3820 \, Österreich
X-APPLE-STRUCTURED-LOCATION;VALUE=URI;X-ADDRESS=Franz Part Straße 2\, Raab
 s an der Thaya\, 3820 \, Österreich;X-APPLE-RADIUS=100;X-TITLE=Feuerwehrh
 aus Raabs:geo:0,0
END:VEVENT
BEGIN:VTIMEZONE
TZID:Europe/Vienna
X-LIC-LOCATION:Europe/Vienna
BEGIN:DAYLIGHT
DTSTART:20250330T030000
TZOFFSETFROM:+0100
TZOFFSETTO:+0200
TZNAME:CEST
END:DAYLIGHT
END:VTIMEZONE
END:VCALENDAR