BEGIN:VCALENDAR
VERSION:2.0
PRODID:-//wp-events-plugin.com//7.2.3.1//EN
TZID:Europe/Vienna
X-WR-TIMEZONE:Europe/Vienna
BEGIN:VEVENT
UID:70@bfk-waidhofen.at
DTSTART;TZID=Europe/Vienna:20240809T110000
DTEND;TZID=Europe/Vienna:20240809T235900
DTSTAMP:20240710T185742Z
URL:https://www.bfk-waidhofen.at/events/feuerwehr-grillfest-der-ff-waidhof
 en-thaya/
SUMMARY:Feuerwehr-Grillfest der FF Waidhofen/Thaya
DESCRIPTION:
LOCATION:Feuerwehrhaus Waidhofen/Thaya\, Südtiroler Straße 5\, Waidhofen/
 Thaya\, 3830\, Österreich
X-APPLE-STRUCTURED-LOCATION;VALUE=URI;X-ADDRESS=Südtiroler Straße 5\, Wai
 dhofen/Thaya\, 3830\, Österreich;X-APPLE-RADIUS=100;X-TITLE=Feuerwehrhaus
  Waidhofen/Thaya:geo:0,0
END:VEVENT
BEGIN:VTIMEZONE
TZID:Europe/Vienna
X-LIC-LOCATION:Europe/Vienna
BEGIN:DAYLIGHT
DTSTART:20240331T030000
TZOFFSETFROM:+0100
TZOFFSETTO:+0200
TZNAME:CEST
END:DAYLIGHT
END:VTIMEZONE
END:VCALENDAR